BEGIN:VCALENDAR
VERSION:2.0
PRODID:-//Operation BeYoutiful - ECPv6.15.20//NONSGML v1.0//EN
CALSCALE:GREGORIAN
METHOD:PUBLISH
X-WR-CALNAME:Operation BeYoutiful
X-ORIGINAL-URL:https://operationbeyoutiful.org
X-WR-CALDESC:Events for Operation BeYoutiful
REFRESH-INTERVAL;VALUE=DURATION:PT1H
X-Robots-Tag:noindex
X-PUBLISHED-TTL:PT1H
BEGIN:VTIMEZONE
TZID:America/New_York
BEGIN:DAYLIGHT
TZOFFSETFROM:-0500
TZOFFSETTO:-0400
TZNAME:EDT
DTSTART:20250309T070000
END:DAYLIGHT
BEGIN:STANDARD
TZOFFSETFROM:-0400
TZOFFSETTO:-0500
TZNAME:EST
DTSTART:20251102T060000
END:STANDARD
BEGIN:DAYLIGHT
TZOFFSETFROM:-0500
TZOFFSETTO:-0400
TZNAME:EDT
DTSTART:20260308T070000
END:DAYLIGHT
BEGIN:STANDARD
TZOFFSETFROM:-0400
TZOFFSETTO:-0500
TZNAME:EST
DTSTART:20261101T060000
END:STANDARD
BEGIN:DAYLIGHT
TZOFFSETFROM:-0500
TZOFFSETTO:-0400
TZNAME:EDT
DTSTART:20270314T070000
END:DAYLIGHT
BEGIN:STANDARD
TZOFFSETFROM:-0400
TZOFFSETTO:-0500
TZNAME:EST
DTSTART:20271107T060000
END:STANDARD
END:VTIMEZONE
BEGIN:VEVENT
DTSTART;TZID=America/New_York:20260107T170000
DTEND;TZID=America/New_York:20260107T170000
DTSTAMP:20260424T205708
CREATED:20251229T182330Z
LAST-MODIFIED:20251229T182656Z
UID:1356-1767805200-1767805200@operationbeyoutiful.org
SUMMARY:"I'm Fine" Mask Making Class 
DESCRIPTION:What mask do you wear to portray\, minimize\, or hide your mental health struggles? \n\n\n\nIn the “I’m Fine” workshops\, participants create ceramic masks that represent the outward “mask” each wears to portray\, hide\, or minimize their emotions and mental health challenges. \n\n\n\nBack for the 3rd year – this project has been a favorite of everyone that has participated. PS we will get our masks from last year.  \n\n\n\n“Sculpting mental health awareness through art” \n\n\n\nClick to see years past class masks \n\n\n\n\n\n\n\n\n\nRSVP by Dec 29th  
URL:https://operationbeyoutiful.org/event/im-fine-mask-making-class/
LOCATION:Windber Hospital Meeting Room\, 600 Somerset Ave\, Windber\, Pennsylvania\, 15963\, United States
CATEGORIES:Member Events
END:VEVENT
BEGIN:VEVENT
DTSTART;TZID=America/New_York:20260204T173000
DTEND;TZID=America/New_York:20260204T173000
DTSTAMP:20260424T205708
CREATED:20251229T182859Z
LAST-MODIFIED:20251229T182932Z
UID:1361-1770226200-1770226200@operationbeyoutiful.org
SUMMARY:Panes of Promise Stained Glass Class
DESCRIPTION:Members are invited to join us for an evening of creating a stained glass Cathedral Cross\, lead by Panes of Promise. \n\n\n\n\n\n\n\n\n\nRSVP by Jan 25th
URL:https://operationbeyoutiful.org/event/panes-of-promise-stained-glass-class/
LOCATION:Windber Hospital Meeting Room\, 600 Somerset Ave\, Windber\, Pennsylvania\, 15963\, United States
CATEGORIES:Member Events
END:VEVENT
BEGIN:VEVENT
DTSTART;TZID=America/New_York:20260208T110000
DTEND;TZID=America/New_York:20260208T140000
DTSTAMP:20260424T205708
CREATED:20251229T162409Z
LAST-MODIFIED:20251230T151252Z
UID:1330-1770548400-1770559200@operationbeyoutiful.org
SUMMARY:Bubbles and Brunch
DESCRIPTION:Presented by: MorGainz Elite Cycle\n\n\n\nGrab your amigas and join us for our 2nd annual Valentine’s Brunch – a joyful celebration of friendship\, food\, and giving back. Sip on champagne\, enjoy delicious Latin-inspired bites\, mariachi\, and latin dancers all while connecting with incredible women. This special brunch benefits Operation BeYOUtiful\, supporting confidence\, empowerment\, and well being in the lives of local women. Come dressed in your boldest colors\, bring your best gal pals\, and help us turn love for each other into lasting impact. \n\n\n\nTo make this event a success\, we are seeking donations from valued community members like you. With your help\, we can ensure 100% of the proceeds from Bubbles and Brunch directly benefit our programming for local young ladies and women battling medically related hair loss. Your contribution will play a vital role in achieving our mission. \n\n\n\nPlease join us in making a meaningful difference. We look forward to seeing you! \n\n\n\n\n\n\n\n\n\nDonations from $500 – $2000
URL:https://operationbeyoutiful.org/event/bubbles-and-brunch/
LOCATION:Bottle Works Ethnic Center\, 411 3rd Avenue\, Johnstown\, Pennsylvania\, 15906\, United States
CATEGORIES:Fundraisers
ATTACH;FMTTYPE=image/png:https://operationbeyoutiful.org/wp-content/uploads/2025/12/Bubbles-and-Brunch-2026.png
END:VEVENT
BEGIN:VEVENT
DTSTART;TZID=America/New_York:20260311T173000
DTEND;TZID=America/New_York:20260311T173000
DTSTAMP:20260424T205708
CREATED:20251229T183204Z
LAST-MODIFIED:20260303T182215Z
UID:1365-1773250200-1773250200@operationbeyoutiful.org
SUMMARY:Reiki & Sound Healing and doTERRA Oils
DESCRIPTION:Dr. Kaitlyn Shultz will speak tonight on the benefits of Reiki and sound healing and Kaylyn will be here with her Doterra oils. It will be a wonderful night of healing our minds\, bodies and souls! \n\n\n\n\n\n\n\nVenue: TBD \n\n\n\n\n\n\n\nThis event is for Operation BeYoutiful participants/members only.If you would like to participate and you are eligible\, please complete an application. Apply now
URL:https://operationbeyoutiful.org/event/reiki-sound-healing-and-doterra-oils/
LOCATION:Pennsylvania
CATEGORIES:Member Events
END:VEVENT
BEGIN:VEVENT
DTSTART;TZID=America/New_York:20260312T173000
DTEND;TZID=America/New_York:20260312T190000
DTSTAMP:20260424T205708
CREATED:20260218T145531Z
LAST-MODIFIED:20260220T194141Z
UID:1382-1773336600-1773342000@operationbeyoutiful.org
SUMMARY:Mixer at the Vault on Main
DESCRIPTION:Join us at the Vault on Main for the Operation BeYoutiful mixer on Thursday\, March 5th at the Vault on Main! We want to thank you for your support\, and this event is just for you. Enjoy delicious hors d’oeuvres and drinks while getting to know other supporters. It’s a great chance to relax\, have fun\, and connect with others who care about our cause. We truly appreciate your generosity\, and we look forward to working together in the future. We hope to see you there!
URL:https://operationbeyoutiful.org/event/mixer-at-the-vault-on-main/
LOCATION:The Vault on Main\, 407 Main Street\, Johnstown\, Pennsylvania\, 15901\, United States
CATEGORIES:Mixers
END:VEVENT
BEGIN:VEVENT
DTSTART;TZID=America/New_York:20260326T173000
DTEND;TZID=America/New_York:20260326T190000
DTSTAMP:20260424T205708
CREATED:20260218T150021Z
LAST-MODIFIED:20260218T150023Z
UID:1387-1774546200-1774551600@operationbeyoutiful.org
SUMMARY:Mixer at Ponfeigh Distillery
DESCRIPTION:Join us at Ponfeigh Distillery for the Operation BeYoutiful mixer on Thursday\, March 26th! We want to thank you for your support\, and this event is just for you. Enjoy delicious hors d’oeuvres and drinks while getting to know other supporters. It’s a great chance to relax\, have fun\, and connect with others who care about our cause. We truly appreciate your generosity\, and we look forward to working together in the future. We hope to see you there!
URL:https://operationbeyoutiful.org/event/mixer-at-ponfeigh-distillery/
LOCATION:Ponfeigh Distillery\, 893 Stoystown Road\, Somerset\, Pennsylvania\, 15501\, United States
CATEGORIES:Mixers
END:VEVENT
BEGIN:VEVENT
DTSTART;TZID=America/New_York:20260429T173000
DTEND;TZID=America/New_York:20260429T173000
DTSTAMP:20260424T205708
CREATED:20260330T191210Z
LAST-MODIFIED:20260330T191212Z
UID:1402-1777483800-1777483800@operationbeyoutiful.org
SUMMARY:Flood City Cafe and Succulent Tea Cup Garden
DESCRIPTION:Inspiration Photo\n\n\n\nJoin us as we welcome back Ellen Mostoller to make a cute Mother’s Day succulent tea cup garden. Perfect for keeping for yourself or gifting to someone special for Mother’s Day. \n\n\n\nYou will have lots of choices of decor and succulents to customize your garden. \n\n\n\n\n\n\n\n\n\nNEED YOUR FOOD & DRINK ORDER BY APRIL 24TH \n\n\n\n\n\n\n\nThis event is for Operation BeYoutiful participants/members only.If you would like to participate and you are eligible\, please complete an application. Apply now
URL:https://operationbeyoutiful.org/event/flood-city-cafe-and-succulent-tea-cup-garden/
LOCATION:Flood City Cafe\, 137 Clinton Street\, Johnstown\, Pennsylvania\, 15901\, United States
CATEGORIES:Member Events
END:VEVENT
BEGIN:VEVENT
DTSTART;TZID=America/New_York:20260530T170000
DTEND;TZID=America/New_York:20260530T200000
DTSTAMP:20260424T205708
CREATED:20260330T190855Z
LAST-MODIFIED:20260330T190858Z
UID:1398-1780160400-1780171200@operationbeyoutiful.org
SUMMARY:Somerset Women’s League Purse & Jewelry Bash
DESCRIPTION:The Somerset Women’s League has chosen Operation BeYoutiful as one of the recipients of the funds raised from this purse and jewelry bash. They would love for us to attend and mingle with all of the people raising funds to benefit our organization. This will include your ticket to the event and some spending money. \n\n\n\n\n\n\n\n\n\nRSVP by April 30thDoors open at 5pm1st drawing at 6:30pm \n\n\n\n\n\n\n\nThis event is for Operation BeYoutiful participants/members only.If you would like to participate and you are eligible\, please complete an application. Apply now
URL:https://operationbeyoutiful.org/event/somerset-womens-league-purse-jewelry-bash/
LOCATION:Somerset Country Club\, 416 Plank Road\, Somerset\, Pennsylvania\, 15501\, United States
CATEGORIES:Member Events
END:VEVENT
BEGIN:VEVENT
DTSTART;TZID=America/New_York:20260624T173000
DTEND;TZID=America/New_York:20260624T173000
DTSTAMP:20260424T205708
CREATED:20260330T191412Z
LAST-MODIFIED:20260330T191414Z
UID:1407-1782322200-1782322200@operationbeyoutiful.org
SUMMARY:Marsh Art Paint Party
DESCRIPTION:The painting will be lead step-by-step by a certified art instructor. The drawing will already be on the canvas when you arrive. Change the colors to personalize. Relax\, paint and enjoy service from Balance Restaurant while you create. Is this your first time painting in a long time? Don’t be scared! We have first time painters in every class\, so come out and have some fun! \n\n\n\n\n\n\n\n\n\n\n\n\n\nThis event is for Operation BeYoutiful participants/members only.If you would like to participate and you are eligible\, please complete an application. Apply now
URL:https://operationbeyoutiful.org/event/marsh-art-paint-party/
LOCATION:The Vault on Main\, 407 Main Street\, Johnstown\, Pennsylvania\, 15901\, United States
CATEGORIES:Member Events
END:VEVENT
BEGIN:VEVENT
DTSTART;TZID=America/New_York:20261010T180000
DTEND;TZID=America/New_York:20261010T180000
DTSTAMP:20260424T205708
CREATED:20260403T174024Z
LAST-MODIFIED:20260409T155051Z
UID:1412-1791655200-1791655200@operationbeyoutiful.org
SUMMARY:Arabian Nights Gala to benefit Operation: Beyoutiful
DESCRIPTION:Executive Director \n\n\n\n\n\n\n\nEvent Co-Chair \n\n\n\n\n\n\n\nEvent Presented by \n\n\n\n\n\n\n\n\n\nYou’re Invited to a Magical Evening Under the Stars… \n\n\n\nPrepare to step into a world of shimmering lanterns\, rich jewel tones\, and enchanting surprises at Operation BeYoutiful’s Arabian Nights Gala! Join us on Saturday\, October 10th at the beautiful Pasquerilla Conference Center for an unforgettable night inspired by the mystique and elegance of the legendary tales of the Middle East. \n\n\n\nJoin us for an evening filled with:Exotic ambiance and breathtaking décorDelicious cuisine Open BarLive entertainment Dancing\, laughter\, and meaningful momentsLive and Silent Auctions \n\n\n\nSlip into your most glamorous attire — think flowing fabrics\, gold accents\, and royal flair — and prepare for a night where generosity sparkles brighter than the desert stars. \n\n\n\nEvery ticket purchased helps Operation BeYoutiful continue providing wigs and specialized services to young girls and women experiencing medically related hair loss. Together\, we’ll create confidence\, restore beauty\, and remind each recipient that she is radiant beyond measure. \n\n\n\nMark your calendar. Gather your friends. Secure your tickets. The magic awaits… and so does the difference you’ll make.
URL:https://operationbeyoutiful.org/event/arabian-nights-gala-to-benefit-operation-beyoutiful/
LOCATION:Frank J Pasquerilla Center\, 301 Napoleon St\, Johnstown\, Pennsylvania\, 15901\, United States
CATEGORIES:Fundraisers
ATTACH;FMTTYPE=image/png:https://operationbeyoutiful.org/wp-content/uploads/2026/04/Gala-Icon.png
END:VEVENT
END:VCALENDAR