BEGIN:VCALENDAR
VERSION:2.0
PRODID:-//Operation BeYoutiful - ECPv6.15.20//NONSGML v1.0//EN
CALSCALE:GREGORIAN
METHOD:PUBLISH
X-WR-CALNAME:Operation BeYoutiful
X-ORIGINAL-URL:https://operationbeyoutiful.org
X-WR-CALDESC:Events for Operation BeYoutiful
REFRESH-INTERVAL;VALUE=DURATION:PT1H
X-Robots-Tag:noindex
X-PUBLISHED-TTL:PT1H
BEGIN:VTIMEZONE
TZID:America/New_York
BEGIN:DAYLIGHT
TZOFFSETFROM:-0500
TZOFFSETTO:-0400
TZNAME:EDT
DTSTART:20240310T070000
END:DAYLIGHT
BEGIN:STANDARD
TZOFFSETFROM:-0400
TZOFFSETTO:-0500
TZNAME:EST
DTSTART:20241103T060000
END:STANDARD
BEGIN:DAYLIGHT
TZOFFSETFROM:-0500
TZOFFSETTO:-0400
TZNAME:EDT
DTSTART:20250309T070000
END:DAYLIGHT
BEGIN:STANDARD
TZOFFSETFROM:-0400
TZOFFSETTO:-0500
TZNAME:EST
DTSTART:20251102T060000
END:STANDARD
BEGIN:DAYLIGHT
TZOFFSETFROM:-0500
TZOFFSETTO:-0400
TZNAME:EDT
DTSTART:20260308T070000
END:DAYLIGHT
BEGIN:STANDARD
TZOFFSETFROM:-0400
TZOFFSETTO:-0500
TZNAME:EST
DTSTART:20261101T060000
END:STANDARD
END:VTIMEZONE
BEGIN:VEVENT
DTSTART;TZID=America/New_York:20250923T173000
DTEND;TZID=America/New_York:20250923T173000
DTSTAMP:20260424T130430
CREATED:20250904T205244Z
LAST-MODIFIED:20250904T210517Z
UID:1107-1758648600-1758648600@operationbeyoutiful.org
SUMMARY:Jewelry Making Class with Sherri Smay
DESCRIPTION:Sherri Smay will be teaching us about jewelry making and we will be making our own crystal sets including a necklace\, bracelet and earrings.  For those of you who don’t know Sherri\, she is the jeweler behind the flower logo necklace you all have received in addition to a recipient and a wonderful friend.  She is a few months out of her bone marrow transplant and we are so lucky to have her come teach us again.  \n\n\n\n\n\n\n\nVenue: TBD \n\n\n\nRSVP July 16 – No exceptionsClass limited to 25
URL:https://operationbeyoutiful.org/event/jewelry-making-class-with-sherri-smay/
CATEGORIES:Member Events
END:VEVENT
END:VCALENDAR