BEGIN:VCALENDAR
VERSION:2.0
PRODID:-//Operation BeYoutiful - ECPv6.15.20//NONSGML v1.0//EN
CALSCALE:GREGORIAN
METHOD:PUBLISH
X-ORIGINAL-URL:https://operationbeyoutiful.org
X-WR-CALDESC:Events for Operation BeYoutiful
REFRESH-INTERVAL;VALUE=DURATION:PT1H
X-Robots-Tag:noindex
X-PUBLISHED-TTL:PT1H
BEGIN:VTIMEZONE
TZID:America/New_York
BEGIN:DAYLIGHT
TZOFFSETFROM:-0500
TZOFFSETTO:-0400
TZNAME:EDT
DTSTART:20240310T070000
END:DAYLIGHT
BEGIN:STANDARD
TZOFFSETFROM:-0400
TZOFFSETTO:-0500
TZNAME:EST
DTSTART:20241103T060000
END:STANDARD
BEGIN:DAYLIGHT
TZOFFSETFROM:-0500
TZOFFSETTO:-0400
TZNAME:EDT
DTSTART:20250309T070000
END:DAYLIGHT
BEGIN:STANDARD
TZOFFSETFROM:-0400
TZOFFSETTO:-0500
TZNAME:EST
DTSTART:20251102T060000
END:STANDARD
BEGIN:DAYLIGHT
TZOFFSETFROM:-0500
TZOFFSETTO:-0400
TZNAME:EDT
DTSTART:20260308T070000
END:DAYLIGHT
BEGIN:STANDARD
TZOFFSETFROM:-0400
TZOFFSETTO:-0500
TZNAME:EST
DTSTART:20261101T060000
END:STANDARD
END:VTIMEZONE
BEGIN:VEVENT
DTSTART;TZID=America/New_York:20251005T000000
DTEND;TZID=America/New_York:20251005T000000
DTSTAMP:20260425T000716
CREATED:20250917T135218Z
LAST-MODIFIED:20250917T184219Z
UID:1256-1759622400-1759622400@operationbeyoutiful.org
SUMMARY:Buccaneer or Pirate Queen Fundraising Challenge
DESCRIPTION:Challenge ends \n\n\n\n\n\n\n\n\n\nThis month\, Operation: BeYoutiful is hosting a friendly fundraising competition featuring local “celebrities.”  This fun\, online fundraising competition allows donors to chose their favorite Buccaneer or Pirate Queen by donating to their team page! Now it’s up to YOU to help decide which team will raise the most money! Donate to your favorite team and support Operation: BeYoutiful’s to help reach their fundraising goal of $25\,000. \n\n\n\nAll funds raised will be recognized at their Pirates of the Caribbean–themed event on October 11 at the Pasquerilla Conference Center.
URL:https://operationbeyoutiful.org/event/buccaneer-or-pirate-queen-fundraising-challenge/
LOCATION:Pennsylvania
CATEGORIES:Fundraisers
ATTACH;FMTTYPE=image/png:https://operationbeyoutiful.org/wp-content/uploads/2025/09/Buccaneer-or-Pirate-Queen-Fundraising-Challenge-scaled.png
END:VEVENT
BEGIN:VEVENT
DTSTART;TZID=America/New_York:20251011T180000
DTEND;TZID=America/New_York:20251011T230000
DTSTAMP:20260425T000716
CREATED:20250903T202335Z
LAST-MODIFIED:20250903T210220Z
UID:898-1760205600-1760223600@operationbeyoutiful.org
SUMMARY:Pirates of the Caribbean Gala to benefit Operation: Beyoutiful
DESCRIPTION:Executive Director \n\n\n\n\n\n\n\nEvent Co-Chair \n\n\n\n\n\n\n\n\n\nThis year’s gala is a “Pirates of the Caribbean” themed event and it promises to be an evening filled with inspiration\, entertainment\, and meaningful connections. Between both events\, our goal is to raise $75\,000 this year which will go directly towards providing a high-quality wig and an amazing experience and specialized programming for our recipients. In addition to the wig\, we provide gift certificates for both a wig cleaning and two spa treatments. We also offer monthly meetups\, meals\, house cleaning\, yoga classes\, essential oils and counseling services as a part of our overall wellness package. I am so proud to say that all our relationships are with locally owned businesses and all monies raised stay in our local community\, so you know you are making an impact where you live and work. Since we provide all products and services at no cost to the recipient\, we are dependent on fundraising\, grant funding as well as the generosity of businesses\, local organizations\, and individuals.
URL:https://operationbeyoutiful.org/event/pirates-of-the-caribbean-gala-to-benefit-operation-beyoutiful/
LOCATION:Frank J Pasquerilla Center\, 301 Napoleon St\, Johnstown\, Pennsylvania\, 15901\, United States
CATEGORIES:Fundraisers
ATTACH;FMTTYPE=image/png:https://operationbeyoutiful.org/wp-content/uploads/2025/09/Pirates-of-the-Caribbean.png
END:VEVENT
END:VCALENDAR