BEGIN:VCALENDAR
VERSION:2.0
PRODID:-//Operation BeYoutiful - ECPv6.15.20//NONSGML v1.0//EN
CALSCALE:GREGORIAN
METHOD:PUBLISH
X-ORIGINAL-URL:https://operationbeyoutiful.org
X-WR-CALDESC:Events for Operation BeYoutiful
REFRESH-INTERVAL;VALUE=DURATION:PT1H
X-Robots-Tag:noindex
X-PUBLISHED-TTL:PT1H
BEGIN:VTIMEZONE
TZID:America/New_York
BEGIN:DAYLIGHT
TZOFFSETFROM:-0500
TZOFFSETTO:-0400
TZNAME:EDT
DTSTART:20240310T070000
END:DAYLIGHT
BEGIN:STANDARD
TZOFFSETFROM:-0400
TZOFFSETTO:-0500
TZNAME:EST
DTSTART:20241103T060000
END:STANDARD
BEGIN:DAYLIGHT
TZOFFSETFROM:-0500
TZOFFSETTO:-0400
TZNAME:EDT
DTSTART:20250309T070000
END:DAYLIGHT
BEGIN:STANDARD
TZOFFSETFROM:-0400
TZOFFSETTO:-0500
TZNAME:EST
DTSTART:20251102T060000
END:STANDARD
BEGIN:DAYLIGHT
TZOFFSETFROM:-0500
TZOFFSETTO:-0400
TZNAME:EDT
DTSTART:20260308T070000
END:DAYLIGHT
BEGIN:STANDARD
TZOFFSETFROM:-0400
TZOFFSETTO:-0500
TZNAME:EST
DTSTART:20261101T060000
END:STANDARD
END:VTIMEZONE
BEGIN:VEVENT
DTSTART;TZID=America/New_York:20251115T180000
DTEND;TZID=America/New_York:20251115T180000
DTSTAMP:20260424T223528
CREATED:20251015T133447Z
LAST-MODIFIED:20251015T133450Z
UID:1269-1763229600-1763229600@operationbeyoutiful.org
SUMMARY:Stork Fund Charity Fashion Show - Babes for Babies
DESCRIPTION:This is a fashion show to benefit the Stork Fund. This organization raises funds to help women battling infertility. This is an opportunity for us as an organization to help another non-profit that does so much for the women of our community. \n\n\n\n\n\n\n\n\n\nRSVP October 24th – No exceptionsLimited to 30 Seats
URL:https://operationbeyoutiful.org/event/stork-fund-charity-fashion-show-babes-for-babies/
LOCATION:Frank J Pasquerilla Center\, 301 Napoleon St\, Johnstown\, Pennsylvania\, 15901\, United States
CATEGORIES:Member Events
END:VEVENT
END:VCALENDAR