BEGIN:VCALENDAR
VERSION:2.0
PRODID:-//Operation BeYoutiful - ECPv6.15.20//NONSGML v1.0//EN
CALSCALE:GREGORIAN
METHOD:PUBLISH
X-WR-CALNAME:Operation BeYoutiful
X-ORIGINAL-URL:https://operationbeyoutiful.org
X-WR-CALDESC:Events for Operation BeYoutiful
REFRESH-INTERVAL;VALUE=DURATION:PT1H
X-Robots-Tag:noindex
X-PUBLISHED-TTL:PT1H
BEGIN:VTIMEZONE
TZID:America/New_York
BEGIN:DAYLIGHT
TZOFFSETFROM:-0500
TZOFFSETTO:-0400
TZNAME:EDT
DTSTART:20240310T070000
END:DAYLIGHT
BEGIN:STANDARD
TZOFFSETFROM:-0400
TZOFFSETTO:-0500
TZNAME:EST
DTSTART:20241103T060000
END:STANDARD
BEGIN:DAYLIGHT
TZOFFSETFROM:-0500
TZOFFSETTO:-0400
TZNAME:EDT
DTSTART:20250309T070000
END:DAYLIGHT
BEGIN:STANDARD
TZOFFSETFROM:-0400
TZOFFSETTO:-0500
TZNAME:EST
DTSTART:20251102T060000
END:STANDARD
BEGIN:DAYLIGHT
TZOFFSETFROM:-0500
TZOFFSETTO:-0400
TZNAME:EDT
DTSTART:20260308T070000
END:DAYLIGHT
BEGIN:STANDARD
TZOFFSETFROM:-0400
TZOFFSETTO:-0500
TZNAME:EST
DTSTART:20261101T060000
END:STANDARD
END:VTIMEZONE
BEGIN:VEVENT
DTSTART;TZID=America/New_York:20251212T000000
DTEND;TZID=America/New_York:20251223T235959
DTSTAMP:20260424T205030
CREATED:20251114T174529Z
LAST-MODIFIED:20251216T170415Z
UID:1281-1765497600-1766534399@operationbeyoutiful.org
SUMMARY:2025 Holiday Haul
DESCRIPTION:Drawings December 12-23\, 2025 \n\n\n\n\n\nTickets can be purchased from: \n\n\n\n\nOperation: BeYoutiful committee members\n\n\n\nMemorial Highway Chevrolet: Windber \n\n\n\nMemorial Highway Chevrolet: Somerset\n\n\n\nLush Salon: Windber\n\n\n\nNuHart Hair: Richland\n\n\n\n\nOr Contact us to Purchase TicketsPlease enable JavaScript in your browser to complete this form.Please enable JavaScript in your browser to complete this form.Your Name *FirstLast		\n			Your Email Phone\n			\n		\n		PhoneEmail *Your Message *Submit  \n\n\n\n\nWinners announced on Facebook\n\n\n\n\n\n\nThe winning Number will be taken from the first three (straight) digit numbers drawn off the 7:00 pm Official PICK3 Daily Pennsylvania Lottery number December 12-23\, 2025. Prizes shown below. \n\n\n					\n											\n								\n												\n							\n				\n					\n					\n					\n				\n				\n							\n								\n										\n					Drop the Puck & Start Your Engines! – December 12				\n								\n							\n						\n							\n				\n					\n					\n					\n				\n				\n							\n								\n										\n					Playstation 5 Entertainment Package – December 13				\n								\n							\n						\n							\n				\n					\n					\n					\n				\n				\n							\n								\n										\n					The Ultimate Car Tune Up – December 14				\n								\n							\n						\n							\n				\n					\n					\n					\n				\n				\n							\n								\n										\n					It’s a Family Affair – December 15				\n								\n							\n						\n							\n				\n					\n					\n					\n				\n				\n							\n								\n										\n					All Around Johnstown – December 16				\n								\n							\n						\n							\n				\n					\n					\n					\n				\n				\n							\n								\n										\n					Outdoor Entertainment Package – December 17				\n								\n							\n						\n							\n				\n					\n					\n					\n				\n				\n							\n								\n										\n					“Fore” the Love of Golf – December 18				\n								\n							\n						\n							\n				\n					\n					\n					\n				\n				\n							\n								\n										\n					7 Springs Weekend Getaway – December 19				\n								\n							\n						\n							\n				\n					\n					\n					\n				\n				\n							\n								\n										\n					7 Springs Weekend Getaway – December 19				\n								\n							\n						\n							\n				\n					\n					\n					\n				\n				\n							\n								\n										\n					Gift of the Month – December 20				\n								\n							\n						\n							\n				\n					\n					\n					\n				\n				\n							\n								\n										\n					Myrtle Beach Condo – December 21				\n								\n							\n						\n							\n				\n					\n					\n					\n				\n				\n							\n								\n										\n					2 CT TW Lab Grown Diamond Studs and 1 CTW Matching Pendant – December 22				\n								\n							\n						\n							\n				\n					\n					\n					\n				\n				\n							\n								\n										\n					4-piece Kitchen Suite Appliance Package – December 23
URL:https://operationbeyoutiful.org/event/2025-holiday-haul/
LOCATION:Pennsylvania
CATEGORIES:Fundraisers
ATTACH;FMTTYPE=image/jpeg:https://operationbeyoutiful.org/wp-content/uploads/2025/11/1.jpg
END:VEVENT
BEGIN:VEVENT
DTSTART;TZID=America/New_York:20251217T180000
DTEND;TZID=America/New_York:20251217T180000
DTSTAMP:20260424T205030
CREATED:20251015T134140Z
LAST-MODIFIED:20251015T134143Z
UID:1273-1765994400-1765994400@operationbeyoutiful.org
SUMMARY:Operation BeYoutiful Holiday Party
DESCRIPTION:Join us to celebrate each other and the beauty of the holiday season.  \n\n\n\n\n\n\n\n\n\nPlease RSVP by December 3rd
URL:https://operationbeyoutiful.org/event/operation-beyoutiful-holiday-party/
LOCATION:The Wine Loft\, 104 Franklin Street\, Johnstown\, Pennsylvania\, 15901\, United States
CATEGORIES:Member Events
END:VEVENT
END:VCALENDAR